BEGIN:VCALENDAR
VERSION:2.0
PRODID:-//Phoenix House Texas - ECPv6.15.20//NONSGML v1.0//EN
CALSCALE:GREGORIAN
METHOD:PUBLISH
X-ORIGINAL-URL:https://phoenixhousetx.org
X-WR-CALDESC:Events for Phoenix House Texas
REFRESH-INTERVAL;VALUE=DURATION:PT1H
X-Robots-Tag:noindex
X-PUBLISHED-TTL:PT1H
BEGIN:VTIMEZONE
TZID:UTC
BEGIN:STANDARD
TZOFFSETFROM:+0000
TZOFFSETTO:+0000
TZNAME:UTC
DTSTART:20240101T000000
END:STANDARD
END:VTIMEZONE
BEGIN:VEVENT
DTSTART;TZID=UTC:20250409T100000
DTEND;TZID=UTC:20250409T113000
DTSTAMP:20260423T055510
CREATED:20250321T010802Z
LAST-MODIFIED:20250321T015251Z
UID:1513-1744192800-1744198200@phoenixhousetx.org
SUMMARY:Regional Alliance Meeting
DESCRIPTION:The Region 6 Prevention Resource Center invites you to join us for our Regional Alliance Meeting on Wednesday\, April 9\, 2025 from 10:00 AM to 11:30 AM. The Regional Alliance Meeting is an interactive gathering of HHSC-funded and community stakeholders working together to strengthen prevention\, mental health\, and community wellness initiatives. Meeting participants are invited to:\n\nContribute your insights\, concerns\, and innovative solutions\nDiscuss strategies to enhance coordination and resource alignment\, and\nGain the latest updates on data\, resources\, and prevention efforts.\n\nBe part of the conversation to strengthen partnerships and create lasting impact!\n\nThe meeting will be held at The Council on Recovery in the Lecture Hall. Please RSVP through the link on this page\, or by emailing the Region 6 PRC Regional Alignment Coordinator\, Sherry Peoples-Banks at speoplesbanks@phoenixhousetx.org
URL:https://phoenixhousetx.org/event/regional-alliance-meeting-040925/
LOCATION:The Council on Recovery\, 303 Jackson Hill Street\, Lecture Hall\, Houston\, TX\, 77007\, United States
CATEGORIES:HOU,Phoenix House Texas,PRC 6
ATTACH;FMTTYPE=image/png:https://phoenixhousetx.org/wp-content/uploads/2025/03/RAM-040925-1-e1742502540740.png
ORGANIZER;CN="Region 6 PRC":MAILTO:prc6@phoenixhousetx.org
END:VEVENT
BEGIN:VEVENT
DTSTART;TZID=UTC:20250422T090000
DTEND;TZID=UTC:20250422T110000
DTSTAMP:20260423T055510
CREATED:20250419T010740Z
LAST-MODIFIED:20250419T011527Z
UID:1596-1745312400-1745319600@phoenixhousetx.org
SUMMARY:Training | Prevention Show & Tell: How Do You Engage\, Energize\, & Empower Large Groups?
DESCRIPTION:Join the Region 6 Prevention Resource Center to enhance your facilitation skills and make a lasting impact! This training session focuses on mastering the essential skills needed to effectively facilitate large groups. Participants will learn practical techniques to engage audiences\, energize interactions\, and empower individuals\, ensuring dynamic and productive group experiences. 
URL:https://phoenixhousetx.org/event/training-prevention-show-tell-how-do-you-engage-energize-empower-large-groups/
LOCATION:Trini Mendenhall Community Center\, 1414 Wirt Rd\, Houston\, TX\, 77055\, United States
CATEGORIES:HOU,Phoenix House Texas,PRC 6
ATTACH;FMTTYPE=image/png:https://phoenixhousetx.org/wp-content/uploads/2025/04/PRC-Training1_042225.png
ORGANIZER;CN="Region 6 PRC":MAILTO:prc6@phoenixhousetx.org
END:VEVENT
BEGIN:VEVENT
DTSTART;TZID=UTC:20250426T100000
DTEND;TZID=UTC:20250426T140000
DTSTAMP:20260423T055510
CREATED:20250419T004131Z
LAST-MODIFIED:20250419T004131Z
UID:1592-1745661600-1745676000@phoenixhousetx.org
SUMMARY:National Prescription Drug Take Back Day
DESCRIPTION:The Region 6 Prevention Resource Center is proud to partner with The River Flows Foundation to host a collection site for National Prescription Drug Take Back Day on April 26\, 2025. Clear out your medicine cabinets and drop by between 10 AM to 2 PM to safely dispose of old and unused medications. You can visit our drop off location at 12337 Jones Rd\, Houston\, TX 77070 or check out the DEA’s Collection Site Locator to find the collection site closest to you!
URL:https://phoenixhousetx.org/event/national-prescription-drug-take-back-day/
LOCATION:The River Flows Foundation\, 12337 Jones Road\, Houston\, TX\, 77070\, United States
CATEGORIES:HOU,Phoenix House Texas,PRC 6
ATTACH;FMTTYPE=image/jpeg:https://phoenixhousetx.org/wp-content/uploads/2025/04/DEA-TakeBackFB.jpg
ORGANIZER;CN="Region 6 PRC":MAILTO:prc6@phoenixhousetx.org
END:VEVENT
BEGIN:VEVENT
DTSTART;TZID=UTC:20250428T073000
DTEND;TZID=UTC:20250428T123000
DTSTAMP:20260423T055510
CREATED:20250402T012259Z
LAST-MODIFIED:20250416T204246Z
UID:1554-1745825400-1745843400@phoenixhousetx.org
SUMMARY:Partner Event | 10th Annual Fort Bend Drug Symposium
DESCRIPTION:The 10th Annual Fort Bend Drug Symposium is being held on Monday\, April 28th\, 2025 from 7:30 am – 12:30pm at the Stafford Centre. Join for discussions on Marijuana: Truth and Consequences; Alcohol and Cancer; and The Power of Empathy in Prevention and Treatment. Speakers include: \n\nEric Voth\, M.D.\, FACP\nPriscilla Martinez\, MPhil\, PhD\nDrew Dutton\, M.Ed.\, MBA\, MAPP\, LPC-S\, LCDC\, ACPS\n\nLPC\, LCDC\, LMFT\, LSW\, MSW\, and TCOLE continuing education hours will be available\, and refreshments will be provided. Please use the Eventbrite below link to register. \n 
URL:https://phoenixhousetx.org/event/partner-event-10th-annual-fbds/
LOCATION:Stafford Centre\, 10505 Cash Rd\, Stafford\, TX\, 77477\, United States
CATEGORIES:HOU,Phoenix House Texas,PRC 6,Project Empathy
ATTACH;FMTTYPE=image/jpeg:https://phoenixhousetx.org/wp-content/uploads/2025/04/10th-Annual-FBDS-Banner-e1743538945524.jpg
END:VEVENT
END:VCALENDAR