BEGIN:VCALENDAR
VERSION:2.0
PRODID:-//Phoenix House Texas - ECPv6.15.20//NONSGML v1.0//EN
CALSCALE:GREGORIAN
METHOD:PUBLISH
X-ORIGINAL-URL:https://phoenixhousetx.org
X-WR-CALDESC:Events for Phoenix House Texas
REFRESH-INTERVAL;VALUE=DURATION:PT1H
X-Robots-Tag:noindex
X-PUBLISHED-TTL:PT1H
BEGIN:VTIMEZONE
TZID:America/Chicago
BEGIN:DAYLIGHT
TZOFFSETFROM:-0600
TZOFFSETTO:-0500
TZNAME:CDT
DTSTART:20240310T080000
END:DAYLIGHT
BEGIN:STANDARD
TZOFFSETFROM:-0500
TZOFFSETTO:-0600
TZNAME:CST
DTSTART:20241103T070000
END:STANDARD
BEGIN:DAYLIGHT
TZOFFSETFROM:-0600
TZOFFSETTO:-0500
TZNAME:CDT
DTSTART:20250309T080000
END:DAYLIGHT
BEGIN:STANDARD
TZOFFSETFROM:-0500
TZOFFSETTO:-0600
TZNAME:CST
DTSTART:20251102T070000
END:STANDARD
BEGIN:DAYLIGHT
TZOFFSETFROM:-0600
TZOFFSETTO:-0500
TZNAME:CDT
DTSTART:20260308T080000
END:DAYLIGHT
BEGIN:STANDARD
TZOFFSETFROM:-0500
TZOFFSETTO:-0600
TZNAME:CST
DTSTART:20261101T070000
END:STANDARD
END:VTIMEZONE
BEGIN:VEVENT
DTSTART;TZID=America/Chicago:20251112T073000
DTEND;TZID=America/Chicago:20251112T163000
DTSTAMP:20260422T015237
CREATED:20250722T190405Z
LAST-MODIFIED:20251003T065146Z
UID:1953-1762932600-1762965000@phoenixhousetx.org
SUMMARY:Partner Event | Adolescent Symposium – On the Road
DESCRIPTION:Join us on Wednesday\, November 12\, 2025 from 7:30 AM – 4:30 PM at Mental Health America of Greater Dallas’ Adolescent Symposium – On the Road to hear from PHT’s CEO\, Drew Dutton\, M.Ed.\, MBA\, MAPP\, LPC-S\, LCDC\, ACPS. Drew will be presenting Project Empathy: The Neuroscience of Addiction and Positive Psychology Applications. \nProject Empathy will address stigmatization around substance use disorders.\, and attendees will learn practical applications of positive psychology and strengths-based interventions in treating addiction. This workshop covers effective\, evidence-based approaches\, common misconceptions\, and harmful practices to avoid. Attendees will gain insights into the unique challenges of treating substance use disorders and what research reveals about successful methods. \nCEs will be available. The symposium is being held at the Rose Garden Center in Tyler\, Texas. To learn more and purchase tickets\, visit the Adolescent Symposium – On the Road event website.
URL:https://phoenixhousetx.org/event/partner-event-asot-otr/
LOCATION:Rose Garden Center\, 1718 W. Houston St.\, Tyler\, TX\, 75702\, United States
CATEGORIES:DAL,Partner Event,Phoenix House Texas,Project Empathy
ATTACH;FMTTYPE=image/png:https://phoenixhousetx.org/wp-content/uploads/2025/07/ASOT-Tyler-Nov-2025-e1753193168492.png
ORGANIZER;CN="Mental Health America of Greater Dallas":MAILTO:info@mhadallas.org
END:VEVENT
END:VCALENDAR