BEGIN:VCALENDAR
VERSION:2.0
PRODID:-//Phoenix House Texas - ECPv6.15.20//NONSGML v1.0//EN
CALSCALE:GREGORIAN
METHOD:PUBLISH
X-ORIGINAL-URL:https://phoenixhousetx.org
X-WR-CALDESC:Events for Phoenix House Texas
REFRESH-INTERVAL;VALUE=DURATION:PT1H
X-Robots-Tag:noindex
X-PUBLISHED-TTL:PT1H
BEGIN:VTIMEZONE
TZID:America/Chicago
BEGIN:DAYLIGHT
TZOFFSETFROM:-0600
TZOFFSETTO:-0500
TZNAME:CDT
DTSTART:20240310T080000
END:DAYLIGHT
BEGIN:STANDARD
TZOFFSETFROM:-0500
TZOFFSETTO:-0600
TZNAME:CST
DTSTART:20241103T070000
END:STANDARD
BEGIN:DAYLIGHT
TZOFFSETFROM:-0600
TZOFFSETTO:-0500
TZNAME:CDT
DTSTART:20250309T080000
END:DAYLIGHT
BEGIN:STANDARD
TZOFFSETFROM:-0500
TZOFFSETTO:-0600
TZNAME:CST
DTSTART:20251102T070000
END:STANDARD
BEGIN:DAYLIGHT
TZOFFSETFROM:-0600
TZOFFSETTO:-0500
TZNAME:CDT
DTSTART:20260308T080000
END:DAYLIGHT
BEGIN:STANDARD
TZOFFSETFROM:-0500
TZOFFSETTO:-0600
TZNAME:CST
DTSTART:20261101T070000
END:STANDARD
END:VTIMEZONE
BEGIN:VTIMEZONE
TZID:America/Chicago
BEGIN:DAYLIGHT
TZOFFSETFROM:-0600
TZOFFSETTO:-0500
TZNAME:CDT
DTSTART:20240310T080000
END:DAYLIGHT
BEGIN:STANDARD
TZOFFSETFROM:-0500
TZOFFSETTO:-0600
TZNAME:CST
DTSTART:20241103T070000
END:STANDARD
BEGIN:DAYLIGHT
TZOFFSETFROM:-0600
TZOFFSETTO:-0500
TZNAME:CDT
DTSTART:20250309T080000
END:DAYLIGHT
BEGIN:STANDARD
TZOFFSETFROM:-0500
TZOFFSETTO:-0600
TZNAME:CST
DTSTART:20251102T070000
END:STANDARD
BEGIN:DAYLIGHT
TZOFFSETFROM:-0600
TZOFFSETTO:-0500
TZNAME:CDT
DTSTART:20260308T080000
END:DAYLIGHT
BEGIN:STANDARD
TZOFFSETFROM:-0500
TZOFFSETTO:-0600
TZNAME:CST
DTSTART:20261101T070000
END:STANDARD
END:VTIMEZONE
BEGIN:VEVENT
DTSTART;VALUE=DATE:20251111
DTEND;VALUE=DATE:20251112
DTSTAMP:20260421T130826
CREATED:20250123T025817Z
LAST-MODIFIED:20250506T192314Z
UID:1451-1762819200-1762905599@phoenixhousetx.org
SUMMARY:Veterans Day
DESCRIPTION:
URL:https://phoenixhousetx.org/event/veterans-day-2/
CATEGORIES:AUS,DAL,Holiday,HOU,Phoenix House Texas,PRC 6,Project Empathy
END:VEVENT
BEGIN:VEVENT
DTSTART;TZID=America/Chicago:20251112T073000
DTEND;TZID=America/Chicago:20251112T163000
DTSTAMP:20260421T130826
CREATED:20250722T190405Z
LAST-MODIFIED:20251003T065146Z
UID:1953-1762932600-1762965000@phoenixhousetx.org
SUMMARY:Partner Event | Adolescent Symposium – On the Road
DESCRIPTION:Join us on Wednesday\, November 12\, 2025 from 7:30 AM – 4:30 PM at Mental Health America of Greater Dallas’ Adolescent Symposium – On the Road to hear from PHT’s CEO\, Drew Dutton\, M.Ed.\, MBA\, MAPP\, LPC-S\, LCDC\, ACPS. Drew will be presenting Project Empathy: The Neuroscience of Addiction and Positive Psychology Applications. \nProject Empathy will address stigmatization around substance use disorders.\, and attendees will learn practical applications of positive psychology and strengths-based interventions in treating addiction. This workshop covers effective\, evidence-based approaches\, common misconceptions\, and harmful practices to avoid. Attendees will gain insights into the unique challenges of treating substance use disorders and what research reveals about successful methods. \nCEs will be available. The symposium is being held at the Rose Garden Center in Tyler\, Texas. To learn more and purchase tickets\, visit the Adolescent Symposium – On the Road event website.
URL:https://phoenixhousetx.org/event/partner-event-asot-otr/
LOCATION:Rose Garden Center\, 1718 W. Houston St.\, Tyler\, TX\, 75702\, United States
CATEGORIES:DAL,Partner Event,Phoenix House Texas,Project Empathy
ATTACH;FMTTYPE=image/png:https://phoenixhousetx.org/wp-content/uploads/2025/07/ASOT-Tyler-Nov-2025-e1753193168492.png
ORGANIZER;CN="Mental Health America of Greater Dallas":MAILTO:info@mhadallas.org
END:VEVENT
BEGIN:VEVENT
DTSTART;TZID=America/Chicago:20251114T091500
DTEND;TZID=America/Chicago:20251114T101500
DTSTAMP:20260421T130826
CREATED:20251113T011623Z
LAST-MODIFIED:20251113T012632Z
UID:2236-1763111700-1763115300@phoenixhousetx.org
SUMMARY:Partner Event | Communities Talk: Youth & Young Adult Substance Use Prevention\, Presented by Denton MHMR Center 
DESCRIPTION:Join us on Friday\, November 14\, 2025 from 9:15 – 10:15 AM at Communities Talk: Youth & Young Adult Substance Use Prevention presented by Denton County MHMR Center in Denton\, Texas! PHT’s CEO\, Drew Dutton\, M.Ed.\, MBA\, MAPP\, LPC-S\, LCDC\, ACPS\, will be presenting Project Empathy.  \nJoin this in-person event for an engaging session all about preventing youth substance use. This event is your chance to connect with community members\, share stories\, and discover practical ways to support young people. Whether you’re a clinician\, parent\, teacher\, or just interested\, come along and be part of the conversation! \nProject Empathy is a transformative workshop designed to reduce stigma and reshape how we understand substance use disorders. Grounded in neuroscience\, this session explores how addiction affects the brain and why traditional approaches often fall short. Participants will learn practical strategies rooted in solution-focused therapy\, strength-based practices\, Positive Psychology\, and empathy. Whether you’re in a professional setting or everyday conversation\, discover how to bring compassion and effectiveness into substance use-related interactions. This workshop also highlights the unique challenges adolescents face with substance use\, offering up-to-date data and developmental insight. Participants walk away with tools to build more meaningful\, supportive\, and evidence-informed responses \nDoor prizes and food provided. Participants can earn 1 CE. To learn more and register for this free event\, visit the event registration website.
URL:https://phoenixhousetx.org/event/communities-talk-denton-co-mhmr/
LOCATION:1 Courthouse Drive\, 2020 Room\, Denton\, TX 76208\, 1 Courthouse Drive\, 2020 Room\, Denton\, TX\, 76208\, United States
CATEGORIES:DAL,Partner Event,Phoenix House Texas,Project Empathy
END:VEVENT
BEGIN:VEVENT
DTSTART;TZID=America/Chicago:20251120T080000
DTEND;TZID=America/Chicago:20251120T093000
DTSTAMP:20260421T130826
CREATED:20251113T005735Z
LAST-MODIFIED:20251113T013308Z
UID:2234-1763625600-1763631000@phoenixhousetx.org
SUMMARY:Partner Event | TCA's 69th Annual Professional Growth Conference
DESCRIPTION:Join us on Thursday\, November 20\, 2025 from 8 – 9:30 AM at Texas Counseling Association’s 69th Annual Professional Growth Conference in Houston\, Texas! PHT’s CEO\, Drew Dutton\, M.Ed.\, MBA\, MAPP\, LPC-S\, LCDC\, ACPS\, will be presenting Project Empathy: The Neuroscience of Addiction Meets Positive Psychology.  \nProject Empathy is a transformative workshop designed to reduce stigma and reshape how we understand substance use disorders. Grounded in neuroscience\, this session explores how addiction affects the brain and why traditional approaches often fall short. Participants will learn practical strategies rooted in solution-focused therapy\, strength-based practices\, Positive Psychology\, and empathy. Whether you’re in a professional setting or everyday conversation\, discover how to bring compassion and effectiveness into substance use-related interactions. This workshop also highlights the unique challenges adolescents face with substance use\, offering up-to-date data and developmental insight. Participants walk away with tools to build more meaningful\, supportive\, and evidence-informed responses \nCEs will be available. The conference is being held from November 19-21\, 2025 at the Marriott Marquis in Houston\, Texas. To learn more and register\, visit the conference website.
URL:https://phoenixhousetx.org/event/tca-pgc-2025/
LOCATION:Marriott Marquis Houston\, 1777 Walker St\, Houston\, TX\, 77010\, United States
CATEGORIES:HOU,Partner Event,Phoenix House Texas,PRC 6,Project Empathy
ORGANIZER;CN="Texas Counseling Association":MAILTO:info@txca.org
END:VEVENT
BEGIN:VEVENT
DTSTART;VALUE=DATE:20251127
DTEND;VALUE=DATE:20251128
DTSTAMP:20260421T130826
CREATED:20250123T025903Z
LAST-MODIFIED:20250506T192303Z
UID:1452-1764201600-1764287999@phoenixhousetx.org
SUMMARY:Thanksgiving Day
DESCRIPTION:
URL:https://phoenixhousetx.org/event/thanksgiving-day-2/
CATEGORIES:AUS,DAL,Holiday,HOU,Phoenix House Texas,PRC 6,Project Empathy
END:VEVENT
END:VCALENDAR