BEGIN:VCALENDAR
VERSION:2.0
PRODID:-//Phoenix House Texas - ECPv6.15.20//NONSGML v1.0//EN
CALSCALE:GREGORIAN
METHOD:PUBLISH
X-ORIGINAL-URL:https://phoenixhousetx.org
X-WR-CALDESC:Events for Phoenix House Texas
REFRESH-INTERVAL;VALUE=DURATION:PT1H
X-Robots-Tag:noindex
X-PUBLISHED-TTL:PT1H
BEGIN:VTIMEZONE
TZID:America/Chicago
BEGIN:DAYLIGHT
TZOFFSETFROM:-0600
TZOFFSETTO:-0500
TZNAME:CDT
DTSTART:20240310T080000
END:DAYLIGHT
BEGIN:STANDARD
TZOFFSETFROM:-0500
TZOFFSETTO:-0600
TZNAME:CST
DTSTART:20241103T070000
END:STANDARD
BEGIN:DAYLIGHT
TZOFFSETFROM:-0600
TZOFFSETTO:-0500
TZNAME:CDT
DTSTART:20250309T080000
END:DAYLIGHT
BEGIN:STANDARD
TZOFFSETFROM:-0500
TZOFFSETTO:-0600
TZNAME:CST
DTSTART:20251102T070000
END:STANDARD
BEGIN:DAYLIGHT
TZOFFSETFROM:-0600
TZOFFSETTO:-0500
TZNAME:CDT
DTSTART:20260308T080000
END:DAYLIGHT
BEGIN:STANDARD
TZOFFSETFROM:-0500
TZOFFSETTO:-0600
TZNAME:CST
DTSTART:20261101T070000
END:STANDARD
END:VTIMEZONE
BEGIN:VEVENT
DTSTART;TZID=America/Chicago:20250911T093000
DTEND;TZID=America/Chicago:20250911T113000
DTSTAMP:20260422T132820
CREATED:20250903T215608Z
LAST-MODIFIED:20250903T222050Z
UID:2004-1757583000-1757590200@phoenixhousetx.org
SUMMARY:PRC6 | Training - Choices That Matter: Equipping Youth with Healthy Alternatives
DESCRIPTION:Join The Region 6 Prevention Resource Center for an engaging\, hands-on training designed to empower prevention specialists with practical tools to guide youth toward healthy\, substance-free lifestyles. Learn how to facilitate meaningful alternative activities that build resilience\, foster connection\, and inspire lasting change. Whether you’re new to prevention or looking to enhance your impact\, this training will equip you to lead with confidence and creativity! \nThis training will be held in-person on September 11\, 2025 from 9:30 – 11:30 AM at Trini Mendenhall Community Center. Please RSVP below. \nUnable to make it? The Region 6 PRC will be offering this training virtually on September 23\,2025 from 9:30 – 11:30 AM! Please check our event calendar for more information and to RSVP to the virtual training.
URL:https://phoenixhousetx.org/event/prc6-training-choices-that-matter091125/
LOCATION:Trini Mendenhall Community Center\, 1414 Wirt Rd\, Houston\, TX\, 77055\, United States
CATEGORIES:HOU,Phoenix House Texas,PRC 6
ATTACH;FMTTYPE=image/png:https://phoenixhousetx.org/wp-content/uploads/2025/09/PRC-Event-Cal-Training-Banner_091125-REVISED.png
ORGANIZER;CN="Region 6 PRC":MAILTO:prc6@phoenixhousetx.org
END:VEVENT
END:VCALENDAR