BEGIN:VCALENDAR
VERSION:2.0
PRODID:-//Phoenix House Texas - ECPv6.15.20//NONSGML v1.0//EN
CALSCALE:GREGORIAN
METHOD:PUBLISH
X-WR-CALNAME:Phoenix House Texas
X-ORIGINAL-URL:https://phoenixhousetx.org
X-WR-CALDESC:Events for Phoenix House Texas
REFRESH-INTERVAL;VALUE=DURATION:PT1H
X-Robots-Tag:noindex
X-PUBLISHED-TTL:PT1H
BEGIN:VTIMEZONE
TZID:America/Chicago
BEGIN:DAYLIGHT
TZOFFSETFROM:-0600
TZOFFSETTO:-0500
TZNAME:CDT
DTSTART:20250309T080000
END:DAYLIGHT
BEGIN:STANDARD
TZOFFSETFROM:-0500
TZOFFSETTO:-0600
TZNAME:CST
DTSTART:20251102T070000
END:STANDARD
BEGIN:DAYLIGHT
TZOFFSETFROM:-0600
TZOFFSETTO:-0500
TZNAME:CDT
DTSTART:20260308T080000
END:DAYLIGHT
BEGIN:STANDARD
TZOFFSETFROM:-0500
TZOFFSETTO:-0600
TZNAME:CST
DTSTART:20261101T070000
END:STANDARD
BEGIN:DAYLIGHT
TZOFFSETFROM:-0600
TZOFFSETTO:-0500
TZNAME:CDT
DTSTART:20270314T080000
END:DAYLIGHT
BEGIN:STANDARD
TZOFFSETFROM:-0500
TZOFFSETTO:-0600
TZNAME:CST
DTSTART:20271107T070000
END:STANDARD
END:VTIMEZONE
BEGIN:VTIMEZONE
TZID:UTC
BEGIN:STANDARD
TZOFFSETFROM:+0000
TZOFFSETTO:+0000
TZNAME:UTC
DTSTART:20250101T000000
END:STANDARD
END:VTIMEZONE
BEGIN:VEVENT
DTSTART;TZID=America/Chicago:20260210T120000
DTEND;TZID=America/Chicago:20260210T140000
DTSTAMP:20260422T032934
CREATED:20251218T034141Z
LAST-MODIFIED:20260131T053102Z
UID:2283-1770724800-1770732000@phoenixhousetx.org
SUMMARY:PRC6 | In-Person Training – Innovating Prevention: Leveraging Trends for Greater Impact
DESCRIPTION:Join the Region 6 Prevention Resource Center for Innovating Prevention: Leveraging Trends for Greater Impact\, an interactive\, in-person training that will teach participants how to integrate emerging trends into their prevention strategies for maximum effectiveness. This training provides practical tools and evidence-based approaches to help participants stay current and create measurable impact. \nThis training will be held in-person on Tuesday\, February 10\, 2026 from 12 PM – 2 PM at Ring Neighborhood Library. Please RSVP below.
URL:https://phoenixhousetx.org/event/prc6-training-ip021026/
LOCATION:Ring Neighborhood Library\, 8835 Long Point\, Houston\, TX\, 77055\, United States
CATEGORIES:HOU,Phoenix House Texas,PRC 6
ORGANIZER;CN="Region 6 PRC":MAILTO:prc6@phoenixhousetx.org
END:VEVENT
BEGIN:VEVENT
DTSTART;TZID=UTC:20260210T133000
DTEND;TZID=UTC:20260210T151500
DTSTAMP:20260422T032934
CREATED:20260205T041745Z
LAST-MODIFIED:20260205T041827Z
UID:2467-1770730200-1770736500@phoenixhousetx.org
SUMMARY:Partner Event | Prescription Drug Misuse and Opioid Use Disorder
DESCRIPTION:You’re invited to Coalition for Behavioral Health’s educational seminar on Prescription Drug Misuse and Opioid Use Disorder presented Dr. Douglas Thornton on February 10\, 2026 from 1:30 – 3:15 PM at United Way Greater Houston. \nThis educational session will provide an overview of current community-engaged strategies to address prescription drug misuse and opioid use disorder. It will highlight the Prescription Drug Misuse Education and Research (PREMIER) Center at the University of Houston College of Pharmacy—its mission to improve patient outcomes through research and education on safe controlled-substance use and its collaborative prevention and intervention projects aimed at reducing opioid-related harms in Texas and beyond. The program will also review the formation\, purpose\, and recent activities of the Texas Opioid Abatement Fund Council\, including how settlement funds are allocated to support evidence-based prevention\, treatment\, and recovery services across the state. Discussion will include the Council’s governance structure\, its role in shaping statewide investments in opioid response\, and examples of funded initiatives with implications for behavioral health providers and community partners. Participants will gain actionable insights into community\, academic\, and policy-level approaches to reducing opioid misuse\, enhancing access to care\, and advancing collaborative service delivery across health and social systems \nCEUs will be available. For more information and to RSVP\, visit the event website.
URL:https://phoenixhousetx.org/event/cbh-hou-pdmoud-021026/
LOCATION:United Way Greater Houston\, 50 Waugh Drive\, Houston\, TX\, 77007\, United States
CATEGORIES:HOU,Partner Event,Phoenix House Texas,PRC 6
END:VEVENT
BEGIN:VEVENT
DTSTART;TZID=America/Chicago:20260218T100000
DTEND;TZID=America/Chicago:20260218T120000
DTSTAMP:20260422T032934
CREATED:20251211T020259Z
LAST-MODIFIED:20251211T020340Z
UID:2271-1771408800-1771416000@phoenixhousetx.org
SUMMARY:PRC6 | Regional Epidemiology Workgroup (REW) Stakeholders Collaboration Meeting
DESCRIPTION:Region 6 PRC invites you to our Regional Epidemiology Workgroup (REW) Stakeholders Collaboration Meeting on Wednesday\, February 18\, 2026 from 10 AM to 12 PM. The meeting will be held in the Lecture Hall at The Council on Recovery. The REW meeting will focus on data collection\, analysis\, and trends related to behavioral and mental health\, substance use\, and other public health concerns impacting our communities. This meeting serves as a collaborative space for school districts\, counselors\, public health professionals\, community partners\, and stakeholders to network\, share insights\, and develop data-driven solutions that address key health challenges. \nThis is an excellent opportunity to hear valuable insights from a leader in the field and engage in discussions on critical public health issues. This meeting is ideal for epidemiologists\, prevention specialists\, researchers\, coalition members\, behavioral and mental health experts\, school district representatives\, counselors\, and others working to create meaningful change through evidence-based strategies. Please RSVP through the link on this page\, or by emailing the Region 6 PRC Regional Alignment Coordinator\, Sherry Peoples-Banks at speoplesbanks@phoenixhousetx.org
URL:https://phoenixhousetx.org/event/prc6_rew021826/
LOCATION:The Council on Recovery\, 303 Jackson Hill Street\, Lecture Hall\, Houston\, TX\, 77007\, United States
CATEGORIES:HOU,Phoenix House Texas,PRC 6
ORGANIZER;CN="Region 6 PRC":MAILTO:prc6@phoenixhousetx.org
END:VEVENT
BEGIN:VEVENT
DTSTART;TZID=UTC:20260224T100000
DTEND;TZID=UTC:20260224T120000
DTSTAMP:20260422T032934
CREATED:20251218T034533Z
LAST-MODIFIED:20260218T043957Z
UID:2286-1771927200-1771934400@phoenixhousetx.org
SUMMARY:PRC6 | Virtual Training – Innovating Prevention: Leveraging Trends for Greater Impact
DESCRIPTION:Join the Region 6 Prevention Resource Center for Innovating Prevention: Leveraging Trends for Greater Impact\, an interactive\, virtual training that will teach participants how to integrate emerging trends into their prevention strategies for maximum effectiveness. This training provides practical tools and evidence-based approaches to help participants stay current and create measurable impact. \nThis training will be held virtually on Tuesday\, February 24\, 2026 from 10 AM – 12 PM. Please RSVP below.
URL:https://phoenixhousetx.org/event/prc6-training-v022426/
LOCATION:Virtual
CATEGORIES:HOU,Phoenix House Texas,PRC 6,Virtual
ORGANIZER;CN="Region 6 PRC":MAILTO:prc6@phoenixhousetx.org
END:VEVENT
END:VCALENDAR