BEGIN:VCALENDAR
VERSION:2.0
PRODID:-//Phoenix House Texas - ECPv6.15.20//NONSGML v1.0//EN
CALSCALE:GREGORIAN
METHOD:PUBLISH
X-ORIGINAL-URL:https://phoenixhousetx.org
X-WR-CALDESC:Events for Phoenix House Texas
REFRESH-INTERVAL;VALUE=DURATION:PT1H
X-Robots-Tag:noindex
X-PUBLISHED-TTL:PT1H
BEGIN:VTIMEZONE
TZID:America/Chicago
BEGIN:DAYLIGHT
TZOFFSETFROM:-0600
TZOFFSETTO:-0500
TZNAME:CDT
DTSTART:20240310T080000
END:DAYLIGHT
BEGIN:STANDARD
TZOFFSETFROM:-0500
TZOFFSETTO:-0600
TZNAME:CST
DTSTART:20241103T070000
END:STANDARD
BEGIN:DAYLIGHT
TZOFFSETFROM:-0600
TZOFFSETTO:-0500
TZNAME:CDT
DTSTART:20250309T080000
END:DAYLIGHT
BEGIN:STANDARD
TZOFFSETFROM:-0500
TZOFFSETTO:-0600
TZNAME:CST
DTSTART:20251102T070000
END:STANDARD
BEGIN:DAYLIGHT
TZOFFSETFROM:-0600
TZOFFSETTO:-0500
TZNAME:CDT
DTSTART:20260308T080000
END:DAYLIGHT
BEGIN:STANDARD
TZOFFSETFROM:-0500
TZOFFSETTO:-0600
TZNAME:CST
DTSTART:20261101T070000
END:STANDARD
END:VTIMEZONE
BEGIN:VEVENT
DTSTART;VALUE=DATE:20251202
DTEND;VALUE=DATE:20251203
DTSTAMP:20260421T053205
CREATED:20251125T203230Z
LAST-MODIFIED:20251125T203305Z
UID:2250-1764633600-1764719999@phoenixhousetx.org
SUMMARY:Giving Tuesday
DESCRIPTION:This Giving Tuesday\, you can make a difference that lasts! Your support helps Phoenix House Texas empower youth and families with prevention education and life skills that foster resilience\, hope\, and healthy choices. \nClick here to support our mission today!
URL:https://phoenixhousetx.org/event/giving-tuesday/
CATEGORIES:AUS,DAL,Holiday,HOU,Phoenix House Texas,PRC 6,Project Empathy
ORGANIZER;CN="Phoenix House Texas":MAILTO:contact@phoenixhousetx.org
END:VEVENT
END:VCALENDAR